BEGIN:VCALENDAR
VERSION:2.0
PRODID:-//Greater Madison Chamber of Commerce - ECPv6.15.1.1//NONSGML v1.0//EN
CALSCALE:GREGORIAN
METHOD:PUBLISH
X-WR-CALNAME:Greater Madison Chamber of Commerce
X-ORIGINAL-URL:https://madisonbiz.com
X-WR-CALDESC:Events for Greater Madison Chamber of Commerce
REFRESH-INTERVAL;VALUE=DURATION:PT1H
X-Robots-Tag:noindex
X-PUBLISHED-TTL:PT1H
BEGIN:VTIMEZONE
TZID:America/Chicago
BEGIN:DAYLIGHT
TZOFFSETFROM:-0600
TZOFFSETTO:-0500
TZNAME:CDT
DTSTART:20190310T080000
END:DAYLIGHT
BEGIN:STANDARD
TZOFFSETFROM:-0500
TZOFFSETTO:-0600
TZNAME:CST
DTSTART:20191103T070000
END:STANDARD
END:VTIMEZONE
BEGIN:VEVENT
DTSTART;TZID=America/Chicago:20190929T100000
DTEND;TZID=America/Chicago:20190929T160000
DTSTAMP:20260424T090152
CREATED:20190912T134743Z
LAST-MODIFIED:20190912T134743Z
UID:20611-1569751200-1569772800@madisonbiz.com
SUMMARY:Goodman Community Center Grand Opening
DESCRIPTION:Not Just Another Grand Opening!\n✱ International performances provided by Overture’s Kids in the Rotunda\n✱ Local food carts\n✱ Community resource information\n✱ STEAM themed kid-friendly activities\n✱ Tour Ironworks + Brassworks buildings
URL:https://madisonbiz.com/event/goodman-community-center-grand-opening/
LOCATION:Goodman Community Center\, 214 Waubesa St.\, Madison\, WI\, 53704\, United States
ATTACH;FMTTYPE=image/jpeg:https://madisonbiz.com/wp-content/uploads/Goodman-Center-grand-opening.jpg
END:VEVENT
END:VCALENDAR