BEGIN:VCALENDAR
VERSION:2.0
PRODID:-//Greater Madison Chamber of Commerce - ECPv6.15.1.1//NONSGML v1.0//EN
CALSCALE:GREGORIAN
METHOD:PUBLISH
X-ORIGINAL-URL:https://madisonbiz.com
X-WR-CALDESC:Events for Greater Madison Chamber of Commerce
REFRESH-INTERVAL;VALUE=DURATION:PT1H
X-Robots-Tag:noindex
X-PUBLISHED-TTL:PT1H
BEGIN:VTIMEZONE
TZID:America/Chicago
BEGIN:DAYLIGHT
TZOFFSETFROM:-0600
TZOFFSETTO:-0500
TZNAME:CDT
DTSTART:20190310T080000
END:DAYLIGHT
BEGIN:STANDARD
TZOFFSETFROM:-0500
TZOFFSETTO:-0600
TZNAME:CST
DTSTART:20191103T070000
END:STANDARD
END:VTIMEZONE
BEGIN:VEVENT
DTSTART;TZID=America/Chicago:20191119T170000
DTEND;TZID=America/Chicago:20191119T190000
DTSTAMP:20260423T201201
CREATED:20191108T181503Z
LAST-MODIFIED:20191108T181707Z
UID:21121-1574182800-1574190000@madisonbiz.com
SUMMARY:HealthTech Capitol Meetup with Rock Mackie
DESCRIPTION:REGISTER NOW \nJoin HealthTech Capitol\, a program of the Chamber\, for networking with area healthtech leaders and a conversation with renowned researcher\, entrepreneur and investor Thomas “Rock” Mackie. \nAt this event\, Mackie will go in-depth on his latest venture as Chief Innovation Officer at UW Health and Director of Isthmus Project\, which offers services such as business planning\, instruction on how to access seed funding and assistance making connections with industry. \nMackie’s list of innovations and companies includes founding Geometrics and TomoTherapy\, investing in and conducting research for SHINE Medical Technologies and investing in Wisconsin Brewing Company. He also spent more than two decades as a faculty member at UW-Madison in medical physics and human oncology. Mackie is responsible for more than 40 patents and 180 peer-reviewed publications and is a recipient of the Lifetime Achievement Award from the American Association of Physicists in Medicine. \nThank you to our Sponsors:\nHost Sponsor: J.H. Findorff & Son Inc.\nHealthTech Capitol Title Sponsor: Godfrey & Kahn
URL:https://madisonbiz.com/event/healthtech-capitol-meetup-with-rock-mackie/
LOCATION:J.H. Findorff & Son Inc.\, 300 S. Bedford St.\, Madison\, WI\, 53703\, United States
ATTACH;FMTTYPE=image/jpeg:https://madisonbiz.com/wp-content/uploads/Rock-Mackie.jpg
END:VEVENT
END:VCALENDAR