BEGIN:VCALENDAR
VERSION:2.0
PRODID:-//Greater Madison Chamber of Commerce - ECPv6.15.1.1//NONSGML v1.0//EN
CALSCALE:GREGORIAN
METHOD:PUBLISH
X-WR-CALNAME:Greater Madison Chamber of Commerce
X-ORIGINAL-URL:https://madisonbiz.com
X-WR-CALDESC:Events for Greater Madison Chamber of Commerce
REFRESH-INTERVAL;VALUE=DURATION:PT1H
X-Robots-Tag:noindex
X-PUBLISHED-TTL:PT1H
BEGIN:VTIMEZONE
TZID:America/Chicago
BEGIN:DAYLIGHT
TZOFFSETFROM:-0600
TZOFFSETTO:-0500
TZNAME:CDT
DTSTART:20200308T080000
END:DAYLIGHT
BEGIN:STANDARD
TZOFFSETFROM:-0500
TZOFFSETTO:-0600
TZNAME:CST
DTSTART:20201101T070000
END:STANDARD
END:VTIMEZONE
BEGIN:VEVENT
DTSTART;TZID=America/Chicago:20200123T100000
DTEND;TZID=America/Chicago:20200123T110000
DTSTAMP:20260423T232951
CREATED:20200122T215146Z
LAST-MODIFIED:20200122T215259Z
UID:21612-1579773600-1579777200@madisonbiz.com
SUMMARY:Middough Inc. Ribbon Cutting
DESCRIPTION:Middough Inc. is celebrating the opening of a new engineering office to provide project solutions in support of the Power\, Industrial\, Facilities and Life Science industries.
URL:https://madisonbiz.com/event/middough-inc-ribbon-cutting/
LOCATION:Middough Inc\, 2801 Crossroads Dr.\, Suite 2200\, Madison\, WI\, 53718\, United States
ATTACH;FMTTYPE=image/jpeg:https://madisonbiz.com/wp-content/uploads/Middough-ribbon-cutting.jpg
END:VEVENT
END:VCALENDAR