BEGIN:VCALENDAR
VERSION:2.0
PRODID:-//Greater Madison Chamber of Commerce - ECPv6.15.1.1//NONSGML v1.0//EN
CALSCALE:GREGORIAN
METHOD:PUBLISH
X-ORIGINAL-URL:https://madisonbiz.com
X-WR-CALDESC:Events for Greater Madison Chamber of Commerce
REFRESH-INTERVAL;VALUE=DURATION:PT1H
X-Robots-Tag:noindex
X-PUBLISHED-TTL:PT1H
BEGIN:VTIMEZONE
TZID:America/Chicago
BEGIN:DAYLIGHT
TZOFFSETFROM:-0600
TZOFFSETTO:-0500
TZNAME:CDT
DTSTART:20190310T080000
END:DAYLIGHT
BEGIN:STANDARD
TZOFFSETFROM:-0500
TZOFFSETTO:-0600
TZNAME:CST
DTSTART:20191103T070000
END:STANDARD
END:VTIMEZONE
BEGIN:VEVENT
DTSTART;TZID=America/Chicago:20191002T113000
DTEND;TZID=America/Chicago:20191002T133000
DTSTAMP:20260424T052947
CREATED:20190920T202919Z
LAST-MODIFIED:20190920T202919Z
UID:20768-1570015800-1570023000@madisonbiz.com
SUMMARY:Normandy Square Senior Apartments Ribbon Cutting
DESCRIPTION:Normandy Square Senior Apartments grand opening is on October 2nd from 11:30 a.m. to 1:30 p.m. Normandy Square is a 58-unit affordable senior housing development.
URL:https://madisonbiz.com/event/normandy-square-senior-apartments-ribbon-cutting/
LOCATION:Normandy Square Senior Apartments\, 6509 Normandy Ln.\, Madison\, WI\, 53719\, United States
ATTACH;FMTTYPE=image/jpeg:https://madisonbiz.com/wp-content/uploads/Normandy-Square-ribbon-cutting.jpg
END:VEVENT
END:VCALENDAR