BEGIN:VCALENDAR
VERSION:2.0
PRODID:-//Greater Madison Chamber of Commerce - ECPv6.15.1.1//NONSGML v1.0//EN
CALSCALE:GREGORIAN
METHOD:PUBLISH
X-WR-CALNAME:Greater Madison Chamber of Commerce
X-ORIGINAL-URL:https://madisonbiz.com
X-WR-CALDESC:Events for Greater Madison Chamber of Commerce
REFRESH-INTERVAL;VALUE=DURATION:PT1H
X-Robots-Tag:noindex
X-PUBLISHED-TTL:PT1H
BEGIN:VTIMEZONE
TZID:America/Chicago
BEGIN:DAYLIGHT
TZOFFSETFROM:-0600
TZOFFSETTO:-0500
TZNAME:CDT
DTSTART:20190310T080000
END:DAYLIGHT
BEGIN:STANDARD
TZOFFSETFROM:-0500
TZOFFSETTO:-0600
TZNAME:CST
DTSTART:20191103T070000
END:STANDARD
END:VTIMEZONE
BEGIN:VEVENT
DTSTART;TZID=America/Chicago:20190827T143000
DTEND;TZID=America/Chicago:20190827T180000
DTSTAMP:20260423T235805
CREATED:20190722T183127Z
LAST-MODIFIED:20190722T183243Z
UID:19827-1566916200-1566928800@madisonbiz.com
SUMMARY:neXXpo 2019
DESCRIPTION:REGISTER NOW \nneXXpo returns to the Overture Center on Tuesday\, Aug. 27\, during Forward Fest! Some of the region’s most exciting businesses will once again compete for your votes and the right to be called Greater Madison’s Most Innovative Company (MIC)\, while at our sixth annual Pressure Chamber\, emerging companies will pitch in front of investor judges and a live audience. \nEvent timeline: \nPressure Chamber 2:30 – 4:00 P.M.\nneXXpo 4:00 – 6:00 P.M.
URL:https://madisonbiz.com/event/nexxpo-2019/
LOCATION:Overture Center for the Arts\, 201 State St.\, Madison\, WI\, 53703\, United States
ATTACH;FMTTYPE=image/jpeg:https://madisonbiz.com/wp-content/uploads/20180816_GMCC_-659.jpg
END:VEVENT
END:VCALENDAR