BEGIN:VCALENDAR
VERSION:2.0
PRODID:-//Greater Madison Chamber of Commerce - ECPv6.15.1.1//NONSGML v1.0//EN
CALSCALE:GREGORIAN
METHOD:PUBLISH
X-WR-CALNAME:Greater Madison Chamber of Commerce
X-ORIGINAL-URL:https://madisonbiz.com
X-WR-CALDESC:Events for Greater Madison Chamber of Commerce
REFRESH-INTERVAL;VALUE=DURATION:PT1H
X-Robots-Tag:noindex
X-PUBLISHED-TTL:PT1H
BEGIN:VTIMEZONE
TZID:America/Chicago
BEGIN:DAYLIGHT
TZOFFSETFROM:-0600
TZOFFSETTO:-0500
TZNAME:CDT
DTSTART:20150308T080000
END:DAYLIGHT
BEGIN:STANDARD
TZOFFSETFROM:-0500
TZOFFSETTO:-0600
TZNAME:CST
DTSTART:20151101T070000
END:STANDARD
END:VTIMEZONE
BEGIN:VEVENT
DTSTART;TZID=America/Chicago:20150629T100000
DTEND;TZID=America/Chicago:20150629T110000
DTSTAMP:20260424T074051
CREATED:20150611T145417Z
LAST-MODIFIED:20150611T145417Z
UID:12621-1435572000-1435575600@madisonbiz.com
SUMMARY:Re-Grand Opening and Ribbon Cutting at Buffalo Wild Wings - Monona
DESCRIPTION:Join Us! Buffalo Wild Wings has become the destination for wings\, beer and sports across the country. Monona will re-open its doors after upgrades and renovations. \nCompany: Buffalo Wild Wings – Monona\nDate: June 29\, 2015\nTime: 10:00 a.m. (Ribbon Cutting at 10:30 a.m.)\nLocation: 6544 Monona Drive\, Monona WI 53716 \nFor More Information Contact: \nDennis Kramer – GM\n411@buffalowildwings.com\n608-237-8686
URL:https://madisonbiz.com/event/re-grand-opening-ribbon-cutting-buffalo-wild-wings-monona/
LOCATION:Buffalo Wild Wings – Monona\, 6544 Monona Drive \, Monona \, WI\, 53716\, United States
ORGANIZER;CN="Kennedy Cullen":MAILTO:kcullen@greatermadisonchamber.com
GEO:43.0471185;-89.3215271
X-APPLE-STRUCTURED-LOCATION;VALUE=URI;X-ADDRESS=Buffalo Wild Wings – Monona 6544 Monona Drive  Monona  WI 53716 United States;X-APPLE-RADIUS=500;X-TITLE=6544 Monona Drive:geo:-89.3215271,43.0471185
END:VEVENT
BEGIN:VEVENT
DTSTART;TZID=America/Chicago:20150629T100000
DTEND;TZID=America/Chicago:20150629T110000
DTSTAMP:20260424T074051
CREATED:20150611T145417Z
LAST-MODIFIED:20150611T145417Z
UID:17197-1435572000-1435575600@madisonbiz.com
SUMMARY:Re-Grand Opening and Ribbon Cutting at Buffalo Wild Wings - Monona
DESCRIPTION:Join Us! Buffalo Wild Wings has become the destination for wings\, beer and sports across the country. Monona will re-open its doors after upgrades and renovations. \nCompany: Buffalo Wild Wings – Monona\nDate: June 29\, 2015\nTime: 10:00 a.m. (Ribbon Cutting at 10:30 a.m.)\nLocation: 6544 Monona Drive\, Monona WI 53716 \nFor More Information Contact: \nDennis Kramer – GM\n411@buffalowildwings.com\n608-237-8686
URL:https://madisonbiz.com/event/re-grand-opening-ribbon-cutting-buffalo-wild-wings-monona-2/
LOCATION:Buffalo Wild Wings – Monona\, 6544 Monona Drive \, Monona \, WI\, 53716\, United States
ORGANIZER;CN="Kennedy Cullen":MAILTO:kcullen@greatermadisonchamber.com
GEO:43.0471185;-89.3215271
X-APPLE-STRUCTURED-LOCATION;VALUE=URI;X-ADDRESS=Buffalo Wild Wings – Monona 6544 Monona Drive  Monona  WI 53716 United States;X-APPLE-RADIUS=500;X-TITLE=6544 Monona Drive:geo:-89.3215271,43.0471185
END:VEVENT
END:VCALENDAR